BEGIN:VCALENDAR
VERSION:2.0
PRODID:-//Kingdom Stars Assembly - ECPv6.15.11//NONSGML v1.0//EN
CALSCALE:GREGORIAN
METHOD:PUBLISH
X-ORIGINAL-URL:https://kingdomstarsassembly.ca
X-WR-CALDESC:Events for Kingdom Stars Assembly
REFRESH-INTERVAL;VALUE=DURATION:PT1H
X-Robots-Tag:noindex
X-PUBLISHED-TTL:PT1H
BEGIN:VTIMEZONE
TZID:America/Toronto
BEGIN:DAYLIGHT
TZOFFSETFROM:-0500
TZOFFSETTO:-0400
TZNAME:EDT
DTSTART:20240310T070000
END:DAYLIGHT
BEGIN:STANDARD
TZOFFSETFROM:-0400
TZOFFSETTO:-0500
TZNAME:EST
DTSTART:20241103T060000
END:STANDARD
BEGIN:DAYLIGHT
TZOFFSETFROM:-0500
TZOFFSETTO:-0400
TZNAME:EDT
DTSTART:20250309T070000
END:DAYLIGHT
BEGIN:STANDARD
TZOFFSETFROM:-0400
TZOFFSETTO:-0500
TZNAME:EST
DTSTART:20251102T060000
END:STANDARD
BEGIN:DAYLIGHT
TZOFFSETFROM:-0500
TZOFFSETTO:-0400
TZNAME:EDT
DTSTART:20260308T070000
END:DAYLIGHT
BEGIN:STANDARD
TZOFFSETFROM:-0400
TZOFFSETTO:-0500
TZNAME:EST
DTSTART:20261101T060000
END:STANDARD
END:VTIMEZONE
BEGIN:VEVENT
DTSTART;TZID=America/Toronto:20250628T140000
DTEND;TZID=America/Toronto:20250628T160000
DTSTAMP:20260419T165317
CREATED:20240601T183113Z
LAST-MODIFIED:20250621T114116Z
UID:20548-1751119200-1751126400@kingdomstarsassembly.ca
SUMMARY:Street Praise
DESCRIPTION:Join us for our 2nd Street Praise of the Year coming up on June 28th from 2 pm to 4 pm at St. George’s Square\, Downtown. Our 1st Street Praise this year was glorious! We had an amazing time shining God’s light and spreading the Gospel of our Lord Jesus Christ! You don’t want to miss this one!
URL:https://kingdomstarsassembly.ca/event/2nd-street-praise/
LOCATION:St. George’s Square\, St. George's Square\, Quebec St\, Guelph\, ON\, Canada
ATTACH;FMTTYPE=image/jpeg:https://kingdomstarsassembly.ca/wp-content/uploads/2024/06/street-praise.jpg
END:VEVENT
END:VCALENDAR